BEGIN:VCALENDAR
PRODID:-//eluceo/ical//2.0/EN
VERSION:2.0
CALSCALE:GREGORIAN
BEGIN:VEVENT
UID:hey.bayern.694465.6552031
DTSTAMP:20260420T001454Z
SUMMARY:Kulturfest
DTSTART;TZID=Europe/Berlin:20260503T100000
DTEND;TZID=Europe/Berlin:20260503T235900
LOCATION:6341 Ebbs\, Österreich
URL;VALUE=URI:https://draft.hey.bayern/events/694465
END:VEVENT
END:VCALENDAR
