BEGIN:VCALENDAR
PRODID:-//eluceo/ical//2.0/EN
VERSION:2.0
CALSCALE:GREGORIAN
BEGIN:VEVENT
UID:hey.bayern.694451.6551733
DTSTAMP:20260420T072057Z
SUMMARY:Klettereldorado Montafon. Eine geführte Tour auf die Zimba (2.643 
 m) – „das Vorarlberger Matterhorn“ - mit Bergführer.
DTSTART;TZID=Europe/Berlin:20260706T000000
DTEND;TZID=Europe/Berlin:20260707T000000
LOCATION:6773 Vandans\, Österreich
GEO:47.078850;9.783810
X-APPLE-STRUCTURED-LOCATION;VALUE=URI;X-ADDRESS=6773 Vandans\, Österreich;
 X-APPLE-RADIUS=49;X-TITLE=:geo:47.078850,9.783810
URL;VALUE=URI:https://draft.hey.bayern/events/694451
END:VEVENT
END:VCALENDAR
