BEGIN:VCALENDAR
PRODID:-//eluceo/ical//2.0/EN
VERSION:2.0
CALSCALE:GREGORIAN
BEGIN:VEVENT
UID:hey.bayern.694441.6551637
DTSTAMP:20260419T223413Z
SUMMARY:Hufeisen- und Plattenwerferturnier
DTSTART;TZID=Europe/Berlin:20260509T110000
DTEND;TZID=Europe/Berlin:20260509T235900
LOCATION:6341 Ebbs\, Österreich
GEO:47.613240;12.212370
X-APPLE-STRUCTURED-LOCATION;VALUE=URI;X-ADDRESS=6341 Ebbs\, Österreich;X-A
 PPLE-RADIUS=49;X-TITLE=:geo:47.613240,12.212370
URL;VALUE=URI:https://draft.hey.bayern/events/694441
END:VEVENT
END:VCALENDAR
