BEGIN:VCALENDAR
PRODID:-//eluceo/ical//2.0/EN
VERSION:2.0
CALSCALE:GREGORIAN
BEGIN:VEVENT
UID:hey.bayern.694424.6551311
DTSTAMP:20260420T001554Z
SUMMARY:Fahrtechniktraining für Anfänger
DTSTART;TZID=Europe/Berlin:20260429T090000
DTEND;TZID=Europe/Berlin:20260429T120000
LOCATION:6311 Wildschönau\, Österreich
URL;VALUE=URI:https://draft.hey.bayern/events/694424
END:VEVENT
END:VCALENDAR
