BEGIN:VCALENDAR
PRODID:-//eluceo/ical//2.0/EN
VERSION:2.0
CALSCALE:GREGORIAN
BEGIN:VEVENT
UID:hey.bayern.694421.6551304
DTSTAMP:20260420T072228Z
SUMMARY:Eintauchen in die Waldatmosphäre
DTSTART;TZID=Europe/Berlin:20261030T100000
DTEND;TZID=Europe/Berlin:20261030T120000
LOCATION:Permakulturgarten Wildentalstrasse\, 6993 Mittelberg\, Österreich
GEO:47.325007;10.166273
X-APPLE-STRUCTURED-LOCATION;VALUE=URI;X-ADDRESS=Permakulturgarten Wildental
 strasse\, 6993 Mittelberg\, Österreich;X-APPLE-RADIUS=49;X-TITLE=:geo:47.
 325007,10.166273
URL;VALUE=URI:https://draft.hey.bayern/events/694421
END:VEVENT
END:VCALENDAR
