BEGIN:VCALENDAR
PRODID:-//eluceo/ical//2.0/EN
VERSION:2.0
CALSCALE:GREGORIAN
BEGIN:VEVENT
UID:hey.bayern.694399.6551198
DTSTAMP:20260420T072212Z
SUMMARY:Ausstellung "Tiroler Fotografen"
DTSTART;TZID=Europe/Berlin:20260711T110000
DTEND;TZID=Europe/Berlin:20260711T235900
LOCATION:6212 Eben am Achensee\, Österreich
URL;VALUE=URI:https://draft.hey.bayern/events/694399
END:VEVENT
END:VCALENDAR
