BEGIN:VCALENDAR
PRODID:-//eluceo/ical//2.0/EN
VERSION:2.0
CALSCALE:GREGORIAN
BEGIN:VEVENT
UID:hey.bayern.694336.6552434
DTSTAMP:20260419T223417Z
SUMMARY:Sommer-Saison-Eröffnung
DTSTART;TZID=Europe/Berlin:20260425T090000
DTEND;TZID=Europe/Berlin:20260425T160000
LOCATION:6341 Ebbs\, Österreich
GEO:47.631520;12.214310
X-APPLE-STRUCTURED-LOCATION;VALUE=URI;X-ADDRESS=6341 Ebbs\, Österreich;X-A
 PPLE-RADIUS=49;X-TITLE=:geo:47.631520,12.214310
URL;VALUE=URI:https://draft.hey.bayern/events/694336
END:VEVENT
END:VCALENDAR
