BEGIN:VCALENDAR
PRODID:-//eluceo/ical//2.0/EN
VERSION:2.0
CALSCALE:GREGORIAN
BEGIN:VEVENT
UID:hey.bayern.694294.6550684
DTSTAMP:20260421T202113Z
SUMMARY:Lesung: Lizz Görgl "Die Magie des Flows"
DTSTART;TZID=Europe/Berlin:20260428T183000
DTEND;TZID=Europe/Berlin:20260428T235959
LOCATION:Hauptstraße 4\, 8642 St. Lorenzen im Mürztal\, Österreich
URL;VALUE=URI:https://draft.hey.bayern/events/694294
END:VEVENT
END:VCALENDAR
