BEGIN:VCALENDAR
PRODID:-//eluceo/ical//2.0/EN
VERSION:2.0
CALSCALE:GREGORIAN
BEGIN:VEVENT
UID:hey.bayern.694131.6549625
DTSTAMP:20260421T033721Z
SUMMARY:Zusatztermin Sonnenaufgangswanderung Kanisfluh mit Mathias
DTSTART;TZID=Europe/Berlin:20260818T030000
DTEND;TZID=Europe/Berlin:20260818T070000
LOCATION:Platz 412\, 6881 Mellau\, Österreich
GEO:47.349570;9.882100
X-APPLE-STRUCTURED-LOCATION;VALUE=URI;X-ADDRESS=Platz 412\, 6881 Mellau\, 
 Österreich;X-APPLE-RADIUS=49;X-TITLE=:geo:47.349570,9.882100
URL;VALUE=URI:https://draft.hey.bayern/events/694131
END:VEVENT
END:VCALENDAR
