BEGIN:VCALENDAR
PRODID:-//eluceo/ical//2.0/EN
VERSION:2.0
CALSCALE:GREGORIAN
BEGIN:VEVENT
UID:hey.bayern.694104.6549402
DTSTAMP:20260419T160508Z
SUMMARY:UEFA Super Cup Finale
DTSTART;TZID=Europe/Berlin:20260812T210000
DTEND;TZID=Europe/Berlin:20260812T235959
LOCATION:Stadionstraße 2/3\, 5071 Wals-Siezenheim\, Österreich
URL;VALUE=URI:https://draft.hey.bayern/events/694104
END:VEVENT
END:VCALENDAR
