BEGIN:VCALENDAR
PRODID:-//eluceo/ical//2.0/EN
VERSION:2.0
CALSCALE:GREGORIAN
BEGIN:VEVENT
UID:hey.bayern.694094.6549318
DTSTAMP:20260420T034626Z
SUMMARY:Stubaier Genussprogramm: Wein erleben bei VinoRibis
DTSTART;TZID=Europe/Berlin:20260714T140000
DTEND;TZID=Europe/Berlin:20260714T170000
LOCATION:6167 Neustift im Stubaital\, Österreich
GEO:47.127220;11.334350
X-APPLE-STRUCTURED-LOCATION;VALUE=URI;X-ADDRESS=6167 Neustift im Stubaital\
 , Österreich;X-APPLE-RADIUS=49;X-TITLE=:geo:47.127220,11.334350
URL;VALUE=URI:https://draft.hey.bayern/events/694094
END:VEVENT
END:VCALENDAR
