BEGIN:VCALENDAR
PRODID:-//eluceo/ical//2.0/EN
VERSION:2.0
CALSCALE:GREGORIAN
BEGIN:VEVENT
UID:hey.bayern.694065.6549132
DTSTAMP:20260420T072108Z
SUMMARY:Piepmatzfest
DTSTART;TZID=Europe/Berlin:20260531T100000
DTEND;TZID=Europe/Berlin:20260531T235900
LOCATION:6112 Wattens\, Österreich
GEO:47.286560;11.591690
X-APPLE-STRUCTURED-LOCATION;VALUE=URI;X-ADDRESS=6112 Wattens\, Österreich;
 X-APPLE-RADIUS=49;X-TITLE=:geo:47.286560,11.591690
URL;VALUE=URI:https://draft.hey.bayern/events/694065
END:VEVENT
END:VCALENDAR
