BEGIN:VCALENDAR
PRODID:-//eluceo/ical//2.0/EN
VERSION:2.0
CALSCALE:GREGORIAN
BEGIN:VEVENT
UID:hey.bayern.693995.6548722
DTSTAMP:20260421T055121Z
SUMMARY:Gospelkonzert „Purple Voices“
DTSTART;TZID=Europe/Berlin:20260516T190000
DTEND;TZID=Europe/Berlin:20260516T210000
LOCATION:Friedhofweg 1\, 88131 Lindau-Reutin\, Österreich
GEO:47.550753;9.692688
X-APPLE-STRUCTURED-LOCATION;VALUE=URI;X-ADDRESS=Friedhofweg 1\, 88131 Linda
 u-Reutin\, Österreich;X-APPLE-RADIUS=49;X-TITLE=:geo:47.550753,9.692688
URL;VALUE=URI:https://draft.hey.bayern/events/693995
END:VEVENT
END:VCALENDAR
