BEGIN:VCALENDAR
PRODID:-//eluceo/ical//2.0/EN
VERSION:2.0
CALSCALE:GREGORIAN
BEGIN:VEVENT
UID:hey.bayern.693977.6548677
DTSTAMP:20260419T190041Z
SUMMARY:Filmpremiere: Horst Wierer – Hüter des Archivs
DTSTART;TZID=Europe/Berlin:20260527T200000
DTEND;TZID=Europe/Berlin:20260527T220000
LOCATION:Kursaal\, Kurpromenade 2- 4\, 5630 Bad Hofgastein\, Österreich
URL;VALUE=URI:https://draft.hey.bayern/events/693977
END:VEVENT
END:VCALENDAR
