BEGIN:VCALENDAR
PRODID:-//eluceo/ical//2.0/EN
VERSION:2.0
CALSCALE:GREGORIAN
BEGIN:VEVENT
UID:hey.bayern.693523.6544835
DTSTAMP:20260422T143531Z
SUMMARY:Maibaum Party
DTSTART;TZID=Europe/Berlin:20260430T200000
DTEND;TZID=Europe/Berlin:20260501T200000
URL;VALUE=URI:https://draft.hey.bayern/events/693523
END:VEVENT
END:VCALENDAR
