BEGIN:VCALENDAR
PRODID:-//eluceo/ical//2.0/EN
VERSION:2.0
CALSCALE:GREGORIAN
BEGIN:VEVENT
UID:hey.bayern.693145.6540745
DTSTAMP:20260420T173020Z
SUMMARY:Kinder & Social Media - Den Überblick behalten
DTSTART;TZID=Europe/Berlin:20261117T200000
DTEND;TZID=Europe/Berlin:20261117T235900
LOCATION:6330 Kufstein\, Österreich
URL;VALUE=URI:https://draft.hey.bayern/events/693145
END:VEVENT
END:VCALENDAR
