BEGIN:VCALENDAR
PRODID:-//eluceo/ical//2.0/EN
VERSION:2.0
CALSCALE:GREGORIAN
BEGIN:VEVENT
UID:hey.bayern.692794.6538307
DTSTAMP:20260424T151622Z
SUMMARY:Curkonzert "Strattl Musi" in Bad Gleichenberg
DTSTART;TZID=Europe/Berlin:20260524T150000
DTEND;TZID=Europe/Berlin:20260524T170000
URL;VALUE=URI:https://draft.hey.bayern/events/692794
END:VEVENT
END:VCALENDAR
