BEGIN:VCALENDAR
PRODID:-//eluceo/ical//2.0/EN
VERSION:2.0
CALSCALE:GREGORIAN
BEGIN:VEVENT
UID:hey.bayern.692341.6535233
DTSTAMP:20260424T151538Z
SUMMARY:Die Menopausen - die bessere Hälfte
DTSTART;TZID=Europe/Berlin:20260521T200000
DTEND;TZID=Europe/Berlin:20260521T235959
URL;VALUE=URI:https://draft.hey.bayern/events/692341
END:VEVENT
END:VCALENDAR
