BEGIN:VCALENDAR
PRODID:-//eluceo/ical//2.0/EN
VERSION:2.0
CALSCALE:GREGORIAN
BEGIN:VEVENT
UID:hey.bayern.692340.6535232
DTSTAMP:20260425T010955Z
SUMMARY:Die Direktträger
DTSTART;TZID=Europe/Berlin:20260523T193000
DTEND;TZID=Europe/Berlin:20260523T235959
LOCATION:Kopreinigg 90\, 8544 Pölfing-Brunn\, Österreich
URL;VALUE=URI:https://draft.hey.bayern/events/692340
END:VEVENT
END:VCALENDAR
