BEGIN:VCALENDAR
PRODID:-//eluceo/ical//2.0/EN
VERSION:2.0
CALSCALE:GREGORIAN
BEGIN:VEVENT
UID:hey.bayern.692142.6533812
DTSTAMP:20260420T001557Z
SUMMARY:Musikalische Hommage an Johannes Brahms
DTSTART;TZID=Europe/Berlin:20260507T160000
DTEND;TZID=Europe/Berlin:20260507T235959
LOCATION:Schwarzstraße 26\, 5020 Salzburg\, Österreich
GEO:47.803703;13.041919
X-APPLE-STRUCTURED-LOCATION;VALUE=URI;X-ADDRESS=Schwarzstraße 26\, 5020 Sa
 lzburg\, Österreich;X-APPLE-RADIUS=49;X-TITLE=:geo:47.803703,13.041919
URL;VALUE=URI:https://draft.hey.bayern/events/692142
END:VEVENT
END:VCALENDAR
