BEGIN:VCALENDAR
PRODID:-//eluceo/ical//2.0/EN
VERSION:2.0
CALSCALE:GREGORIAN
BEGIN:VEVENT
UID:hey.bayern.692021.6532923
DTSTAMP:20260425T010934Z
SUMMARY:So läuft dein Marathon perfekt
DTSTART;TZID=Europe/Berlin:20260429T163000
DTEND;TZID=Europe/Berlin:20260429T183000
LOCATION:Wolfgangseestraße 27\, 5023 Koppl\, Österreich
URL;VALUE=URI:https://draft.hey.bayern/events/692021
END:VEVENT
END:VCALENDAR
