BEGIN:VCALENDAR
PRODID:-//eluceo/ical//2.0/EN
VERSION:2.0
CALSCALE:GREGORIAN
BEGIN:VEVENT
UID:hey.bayern.691977.6532650
DTSTAMP:20260420T015105Z
SUMMARY:Lesung & Musik - Josef Winkler & Harri Stojka
DTSTART;TZID=Europe/Berlin:20260513T193000
DTEND;TZID=Europe/Berlin:20260513T235959
LOCATION:Strubergasse 23 / H.C. Artmann-Platz\, 5020 Salzburg\, Österreich
GEO:47.809035;13.030980
X-APPLE-STRUCTURED-LOCATION;VALUE=URI;X-ADDRESS=Strubergasse 23 / H.C. Artm
 ann-Platz\, 5020 Salzburg\, Österreich;X-APPLE-RADIUS=49;X-TITLE=:geo:47.
 809035,13.030980
URL;VALUE=URI:https://draft.hey.bayern/events/691977
END:VEVENT
END:VCALENDAR
