BEGIN:VCALENDAR
PRODID:-//eluceo/ical//2.0/EN
VERSION:2.0
CALSCALE:GREGORIAN
BEGIN:VEVENT
UID:hey.bayern.691974.6532647
DTSTAMP:20260420T001631Z
SUMMARY:Lesung & Gespräch - Federica Manzon & Flo
DTSTART;TZID=Europe/Berlin:20260507T193000
DTEND;TZID=Europe/Berlin:20260507T235959
LOCATION:Strubergasse 23\, 5020 Salzburg\, Österreich
GEO:47.809035;13.030980
X-APPLE-STRUCTURED-LOCATION;VALUE=URI;X-ADDRESS=Strubergasse 23\, 5020 Salz
 burg\, Österreich;X-APPLE-RADIUS=49;X-TITLE=:geo:47.809035,13.030980
URL;VALUE=URI:https://draft.hey.bayern/events/691974
END:VEVENT
END:VCALENDAR
