BEGIN:VCALENDAR
PRODID:-//eluceo/ical//2.0/EN
VERSION:2.0
CALSCALE:GREGORIAN
BEGIN:VEVENT
UID:hey.bayern.691817.6531363
DTSTAMP:20260420T223050Z
SUMMARY:Tag des Wanderns - Sonderführungen
DTSTART;TZID=Europe/Berlin:20260514T160000
DTEND;TZID=Europe/Berlin:20260514T173000
LOCATION:Klammstrasse 47\, 87561 Oberstdorf\, Österreich
GEO:47.402415;10.229011
X-APPLE-STRUCTURED-LOCATION;VALUE=URI;X-ADDRESS=Klammstrasse 47\, 87561 Obe
 rstdorf\, Österreich;X-APPLE-RADIUS=49;X-TITLE=:geo:47.402415,10.229011
URL;VALUE=URI:https://draft.hey.bayern/events/691817
END:VEVENT
END:VCALENDAR
