BEGIN:VCALENDAR
PRODID:-//eluceo/ical//2.0/EN
VERSION:2.0
CALSCALE:GREGORIAN
BEGIN:VEVENT
UID:hey.bayern.689465.6550077
DTSTAMP:20260422T091520Z
SUMMARY:BIG Family Woche - Zaubershow\, Kinderschminken\, Airbrush Tattoos
DTSTART;TZID=Europe/Berlin:20260730T110000
DTEND;TZID=Europe/Berlin:20260730T235900
LOCATION:6167 Neustift im Stubaital\, Österreich
URL;VALUE=URI:https://draft.hey.bayern/events/689465
END:VEVENT
END:VCALENDAR
