BEGIN:VCALENDAR
PRODID:-//eluceo/ical//2.0/EN
VERSION:2.0
CALSCALE:GREGORIAN
BEGIN:VEVENT
UID:hey.bayern.688776.6509957
DTSTAMP:20260420T001554Z
SUMMARY:COMEDY KRIMI DINNER: Krimi liegt in der Luft
DTSTART;TZID=Europe/Berlin:20260507T193000
DTEND;TZID=Europe/Berlin:20260507T235959
LOCATION:Bräuhausstraße 9\, 5020 Salzburg\, Österreich
GEO:47.793980;13.020618
X-APPLE-STRUCTURED-LOCATION;VALUE=URI;X-ADDRESS=Bräuhausstraße 9\, 5020 S
 alzburg\, Österreich;X-APPLE-RADIUS=49;X-TITLE=:geo:47.793980,13.020618
URL;VALUE=URI:https://draft.hey.bayern/events/688776
END:VEVENT
END:VCALENDAR
