BEGIN:VCALENDAR
PRODID:-//eluceo/ical//2.0/EN
VERSION:2.0
CALSCALE:GREGORIAN
BEGIN:VEVENT
UID:hey.bayern.687356.6491003
DTSTAMP:20260420T125816Z
SUMMARY:Streatfood Circus x Austrian Streetfood Awards
DTSTART;TZID=Europe/Berlin:20260425T110000
DTEND;TZID=Europe/Berlin:20260425T220000
LOCATION:Hannakstaße 5\, 5023 Salzburg\, Österreich
URL;VALUE=URI:https://draft.hey.bayern/events/687356
END:VEVENT
END:VCALENDAR
