BEGIN:VCALENDAR
PRODID:-//eluceo/ical//2.0/EN
VERSION:2.0
CALSCALE:GREGORIAN
BEGIN:VEVENT
UID:hey.bayern.686481.6481775
DTSTAMP:20260420T015105Z
SUMMARY:Lange Nacht der Chöre
DTSTART;TZID=Europe/Berlin:20260513T193000
DTEND;TZID=Europe/Berlin:20260513T235959
LOCATION:Treffpunkt: Festungsgasse Talstation\, 5020 Salzburg\, Österreich
GEO:47.798567;13.042317
X-APPLE-STRUCTURED-LOCATION;VALUE=URI;X-ADDRESS=Treffpunkt: Festungsgasse T
 alstation\, 5020 Salzburg\, Österreich;X-APPLE-RADIUS=49;X-TITLE=:geo:47.
 798567,13.042317
URL;VALUE=URI:https://draft.hey.bayern/events/686481
END:VEVENT
END:VCALENDAR
