BEGIN:VCALENDAR
PRODID:-//eluceo/ical//2.0/EN
VERSION:2.0
CALSCALE:GREGORIAN
BEGIN:VEVENT
UID:hey.bayern.686471.6481730
DTSTAMP:20260424T151632Z
SUMMARY:Konzert des Musikvereins der Graz Linien\, Big Band Graz & H.I.B. L
 iebenau
DTSTART;TZID=Europe/Berlin:20260529T190000
DTEND;TZID=Europe/Berlin:20260529T235959
LOCATION:Schlossberg 5\, 8010 Graz\, Österreich
URL;VALUE=URI:https://draft.hey.bayern/events/686471
END:VEVENT
END:VCALENDAR
