BEGIN:VCALENDAR
PRODID:-//eluceo/ical//2.0/EN
VERSION:2.0
CALSCALE:GREGORIAN
BEGIN:VEVENT
UID:hey.bayern.686146.6479333
DTSTAMP:20260423T015805Z
SUMMARY:Schnitzelabend im Großarler Genuss
DTSTART;TZID=Europe/Berlin:20260514T160000
DTEND;TZID=Europe/Berlin:20260514T235959
LOCATION:Sonneggweg 1\, 5611 Großarl\, Österreich
URL;VALUE=URI:https://draft.hey.bayern/events/686146
END:VEVENT
END:VCALENDAR
