BEGIN:VCALENDAR
PRODID:-//eluceo/ical//2.0/EN
VERSION:2.0
CALSCALE:GREGORIAN
BEGIN:VEVENT
UID:hey.bayern.685867.6518064
DTSTAMP:20260420T073018Z
SUMMARY:Hoppers-2D-
DTSTART;TZID=Europe/Berlin:20260322T150000
DTEND;TZID=Europe/Berlin:20260323T150000
LOCATION:Oststraße 6\, 87561 Oberstdorf
GEO:47.406414;10.279228
X-APPLE-STRUCTURED-LOCATION;VALUE=URI;X-ADDRESS=Oststraße 6\, 87561 Oberst
 dorf;X-APPLE-RADIUS=49;X-TITLE=:geo:47.406414,10.279228
URL;VALUE=URI:https://draft.hey.bayern/events/685867
END:VEVENT
END:VCALENDAR
