BEGIN:VCALENDAR
PRODID:-//eluceo/ical//2.0/EN
VERSION:2.0
CALSCALE:GREGORIAN
BEGIN:VEVENT
UID:hey.bayern.685791.6477063
DTSTAMP:20260420T034627Z
SUMMARY:Ausstellung: Mannsbilder - Weibsbilder - Sabine Daum
DTSTART;TZID=Europe/Berlin:20260611T140000
DTEND;TZID=Europe/Berlin:20260611T170000
LOCATION:6410 Telfs\, Österreich
URL;VALUE=URI:https://draft.hey.bayern/events/685791
END:VEVENT
END:VCALENDAR
