BEGIN:VCALENDAR
PRODID:-//eluceo/ical//2.0/EN
VERSION:2.0
CALSCALE:GREGORIAN
BEGIN:VEVENT
UID:hey.bayern.685791.6477048
DTSTAMP:20260420T034631Z
SUMMARY:Ausstellung: Mannsbilder - Weibsbilder - Sabine Daum
DTSTART;TZID=Europe/Berlin:20260619T170000
DTEND;TZID=Europe/Berlin:20260619T200000
LOCATION:6410 Telfs\, Österreich
URL;VALUE=URI:https://draft.hey.bayern/events/685791
END:VEVENT
END:VCALENDAR
