BEGIN:VCALENDAR
PRODID:-//eluceo/ical//2.0/EN
VERSION:2.0
CALSCALE:GREGORIAN
BEGIN:VEVENT
UID:hey.bayern.683205.6553344
DTSTAMP:20260420T072057Z
SUMMARY:Platzkonzert Schiffsanlegestelle
DTSTART;TZID=Europe/Berlin:20260903T200000
DTEND;TZID=Europe/Berlin:20260903T235900
LOCATION:6213 Eben am Achensee\, Österreich
GEO:47.441640;11.703880
X-APPLE-STRUCTURED-LOCATION;VALUE=URI;X-ADDRESS=6213 Eben am Achensee\, Ös
 terreich;X-APPLE-RADIUS=49;X-TITLE=:geo:47.441640,11.703880
URL;VALUE=URI:https://draft.hey.bayern/events/683205
END:VEVENT
END:VCALENDAR
