BEGIN:VCALENDAR
PRODID:-//eluceo/ical//2.0/EN
VERSION:2.0
CALSCALE:GREGORIAN
BEGIN:VEVENT
UID:hey.bayern.678798.6547824
DTSTAMP:20260420T053748Z
SUMMARY:Sommer Erlebnisse - Harry's Panoramatour 2000
DTSTART;TZID=Europe/Berlin:20260509T090000
DTEND;TZID=Europe/Berlin:20260509T180000
LOCATION:6105 Leutasch\, Österreich
GEO:47.363770;11.103290
X-APPLE-STRUCTURED-LOCATION;VALUE=URI;X-ADDRESS=6105 Leutasch\, Österreich
 ;X-APPLE-RADIUS=49;X-TITLE=:geo:47.363770,11.103290
URL;VALUE=URI:https://draft.hey.bayern/events/678798
END:VEVENT
END:VCALENDAR
