BEGIN:VCALENDAR
PRODID:-//eluceo/ical//2.0/EN
VERSION:2.0
CALSCALE:GREGORIAN
BEGIN:VEVENT
UID:hey.bayern.676926.6549633
DTSTAMP:20260420T001455Z
SUMMARY:Ernst Caramelle. Künstlerbücher & Video-Landschaften
DTSTART;TZID=Europe/Berlin:20260507T170000
DTEND;TZID=Europe/Berlin:20260507T235959
LOCATION:Wiener-Philharmoniker-Gasse 9\, 5020 Salzburg\, Österreich
GEO:47.798215;13.043385
X-APPLE-STRUCTURED-LOCATION;VALUE=URI;X-ADDRESS=Wiener-Philharmoniker-Gasse
  9\, 5020 Salzburg\, Österreich;X-APPLE-RADIUS=49;X-TITLE=:geo:47.798215,
 13.043385
URL;VALUE=URI:https://draft.hey.bayern/events/676926
END:VEVENT
END:VCALENDAR
