BEGIN:VCALENDAR
PRODID:-//eluceo/ical//2.0/EN
VERSION:2.0
CALSCALE:GREGORIAN
BEGIN:VEVENT
UID:hey.bayern.675623.6556190
DTSTAMP:20260424T093656Z
SUMMARY:Dirndl und Lederhosen Clubbing
DTSTART;TZID=Europe/Berlin:20261016T180000
DTEND;TZID=Europe/Berlin:20261016T235959
LOCATION:Schlögelbergweg 4\, 5581 St. Margarethen im Lungau\, Österreich
GEO:47.071857;13.683525
X-APPLE-STRUCTURED-LOCATION;VALUE=URI;X-ADDRESS=Schlögelbergweg 4\, 5581 S
 t. Margarethen im Lungau\, Österreich;X-APPLE-RADIUS=49;X-TITLE=:geo:47.0
 71857,13.683525
URL;VALUE=URI:https://draft.hey.bayern/events/675623
END:VEVENT
END:VCALENDAR
