BEGIN:VCALENDAR
PRODID:-//eluceo/ical//2.0/EN
VERSION:2.0
CALSCALE:GREGORIAN
BEGIN:VEVENT
UID:hey.bayern.673127.6387636
DTSTAMP:20260424T161900Z
SUMMARY:Kabarett: Grazbürsten
DTSTART;TZID=Europe/Berlin:20260124T193000
DTEND;TZID=Europe/Berlin:20260124T235959
LOCATION:Fischeraustraße 22\, 8051 Graz\, Österreich
GEO:47.095472;15.410155
X-APPLE-STRUCTURED-LOCATION;VALUE=URI;X-ADDRESS=Fischeraustraße 22\, 8051 
 Graz\, Österreich;X-APPLE-RADIUS=49;X-TITLE=:geo:47.095472,15.410155
URL;VALUE=URI:https://draft.hey.bayern/events/673127
END:VEVENT
END:VCALENDAR
