BEGIN:VCALENDAR
PRODID:-//eluceo/ical//2.0/EN
VERSION:2.0
CALSCALE:GREGORIAN
BEGIN:VEVENT
UID:hey.bayern.672927.6385389
DTSTAMP:20260420T034629Z
SUMMARY:DAS RAUSCHEN UNTER MEINER HAUT - Susanne Liner
DTSTART;TZID=Europe/Berlin:20260524T080000
DTEND;TZID=Europe/Berlin:20260524T150000
LOCATION:6130 Schwaz\, Österreich
URL;VALUE=URI:https://draft.hey.bayern/events/672927
END:VEVENT
END:VCALENDAR
