BEGIN:VCALENDAR
PRODID:-//eluceo/ical//2.0/EN
VERSION:2.0
CALSCALE:GREGORIAN
BEGIN:VEVENT
UID:hey.bayern.669932.6553683
DTSTAMP:20260421T170029Z
SUMMARY:HOMMAGE an Franz Bartolomey - Attergauer Kultursommer 2026
DTSTART;TZID=Europe/Berlin:20260726T190000
DTEND;TZID=Europe/Berlin:20260727T000000
LOCATION:Attergaustraße 20\, 4880 St. Georgen im Attergau\, Österreich
GEO:47.933592;13.491307
X-APPLE-STRUCTURED-LOCATION;VALUE=URI;X-ADDRESS=Attergaustraße 20\, 4880 S
 t. Georgen im Attergau\, Österreich;X-APPLE-RADIUS=49;X-TITLE=:geo:47.933
 592,13.491307
URL;VALUE=URI:https://draft.hey.bayern/events/669932
END:VEVENT
END:VCALENDAR
