BEGIN:VCALENDAR
PRODID:-//eluceo/ical//2.0/EN
VERSION:2.0
CALSCALE:GREGORIAN
BEGIN:VEVENT
UID:hey.bayern.669906.6553672
DTSTAMP:20260421T170021Z
SUMMARY:CARMEN von Georges Bizet (halbszenisch) - Attergauer Kultursommer 2
 026
DTSTART;TZID=Europe/Berlin:20260801T190000
DTEND;TZID=Europe/Berlin:20260802T000000
LOCATION:Dr. Greil Straße 8\, 4880 St. Georgen im Attergau\, Österreich
GEO:47.934559;13.485486
X-APPLE-STRUCTURED-LOCATION;VALUE=URI;X-ADDRESS=Dr. Greil Straße 8\, 4880 
 St. Georgen im Attergau\, Österreich;X-APPLE-RADIUS=49;X-TITLE=:geo:47.93
 4559,13.485486
URL;VALUE=URI:https://draft.hey.bayern/events/669906
END:VEVENT
END:VCALENDAR
