BEGIN:VCALENDAR
PRODID:-//eluceo/ical//2.0/EN
VERSION:2.0
CALSCALE:GREGORIAN
BEGIN:VEVENT
UID:hey.bayern.668946.6338512
DTSTAMP:20260420T223058Z
SUMMARY:Geführte Biketour ins Nenzigasttal mit Einkehrmöglichkeit auf der
  Alpe Nenzigast
DTSTART;TZID=Europe/Berlin:20260704T140000
DTEND;TZID=Europe/Berlin:20260704T170000
URL;VALUE=URI:https://draft.hey.bayern/events/668946
END:VEVENT
END:VCALENDAR
