BEGIN:VCALENDAR
PRODID:-//eluceo/ical//2.0/EN
VERSION:2.0
CALSCALE:GREGORIAN
BEGIN:VEVENT
UID:hey.bayern.668847.6337603
DTSTAMP:20260421T191712Z
SUMMARY:Stadt und Geschichte l Stadtrundgang
DTSTART;TZID=Europe/Berlin:20261113T160000
DTEND;TZID=Europe/Berlin:20261113T235959
LOCATION:Mauttorpromenade 6\, 5400 Hallein\, Österreich
URL;VALUE=URI:https://draft.hey.bayern/events/668847
END:VEVENT
END:VCALENDAR
