BEGIN:VCALENDAR
PRODID:-//eluceo/ical//2.0/EN
VERSION:2.0
CALSCALE:GREGORIAN
BEGIN:VEVENT
UID:hey.bayern.668438.6334188
DTSTAMP:20260424T161904Z
SUMMARY:Graz Erzählt: Kunstinstallation
DTSTART;TZID=Europe/Berlin:20260515T090000
DTEND;TZID=Europe/Berlin:20260515T235959
LOCATION:Mariahilferplatz\, 8010 Graz\, Österreich
GEO:47.072634;15.433843
X-APPLE-STRUCTURED-LOCATION;VALUE=URI;X-ADDRESS=Mariahilferplatz\, 8010 Gra
 z\, Österreich;X-APPLE-RADIUS=49;X-TITLE=:geo:47.072634,15.433843
URL;VALUE=URI:https://draft.hey.bayern/events/668438
END:VEVENT
END:VCALENDAR
