BEGIN:VCALENDAR
PRODID:-//eluceo/ical//2.0/EN
VERSION:2.0
CALSCALE:GREGORIAN
BEGIN:VEVENT
UID:hey.bayern.667876.6426250
DTSTAMP:20260420T072106Z
SUMMARY:Ausstellung: "Max Weiler Reframed"
DTSTART;TZID=Europe/Berlin:20260523T100000
DTEND;TZID=Europe/Berlin:20260523T235900
LOCATION:6060 Hall in Tirol\, Österreich
GEO:47.280640;11.506210
X-APPLE-STRUCTURED-LOCATION;VALUE=URI;X-ADDRESS=6060 Hall in Tirol\, Öster
 reich;X-APPLE-RADIUS=49;X-TITLE=:geo:47.280640,11.506210
URL;VALUE=URI:https://draft.hey.bayern/events/667876
END:VEVENT
END:VCALENDAR
