BEGIN:VCALENDAR
PRODID:-//eluceo/ical//2.0/EN
VERSION:2.0
CALSCALE:GREGORIAN
BEGIN:VEVENT
UID:hey.bayern.666443.6557244
DTSTAMP:20260424T030652Z
SUMMARY:Ausstellung: Illusion Eros
DTSTART;TZID=Europe/Berlin:20260708T160000
DTEND;TZID=Europe/Berlin:20260708T190000
LOCATION:Kirchenplatz 11\, 4910 Ried im Innkreis\, Österreich
GEO:48.209668;13.489767
X-APPLE-STRUCTURED-LOCATION;VALUE=URI;X-ADDRESS=Kirchenplatz 11\, 4910 Ried
  im Innkreis\, Österreich;X-APPLE-RADIUS=49;X-TITLE=:geo:48.209668,13.489
 767
URL;VALUE=URI:https://draft.hey.bayern/events/666443
END:VEVENT
END:VCALENDAR
