BEGIN:VCALENDAR
PRODID:-//eluceo/ical//2.0/EN
VERSION:2.0
CALSCALE:GREGORIAN
BEGIN:VEVENT
UID:hey.bayern.664865.6266971
DTSTAMP:20260424T161906Z
SUMMARY:Lama Schnuppertürchen
DTSTART;TZID=Europe/Berlin:20260424T090000
DTEND;TZID=Europe/Berlin:20260424T101500
URL;VALUE=URI:https://draft.hey.bayern/events/664865
END:VEVENT
END:VCALENDAR
