BEGIN:VCALENDAR
PRODID:-//eluceo/ical//2.0/EN
VERSION:2.0
CALSCALE:GREGORIAN
BEGIN:VEVENT
UID:hey.bayern.658772.6186398
DTSTAMP:20260420T072231Z
SUMMARY:ALIGN to Inside Flow - Vinyasa Yoga on beat
DTSTART;TZID=Europe/Berlin:20261116T191500
DTEND;TZID=Europe/Berlin:20261116T201500
LOCATION:6100 Seefeld in Tirol\, Österreich
GEO:47.329180;11.186840
X-APPLE-STRUCTURED-LOCATION;VALUE=URI;X-ADDRESS=6100 Seefeld in Tirol\, Ös
 terreich;X-APPLE-RADIUS=49;X-TITLE=:geo:47.329180,11.186840
URL;VALUE=URI:https://draft.hey.bayern/events/658772
END:VEVENT
END:VCALENDAR
