BEGIN:VCALENDAR
PRODID:-//eluceo/ical//2.0/EN
VERSION:2.0
CALSCALE:GREGORIAN
BEGIN:VEVENT
UID:hey.bayern.656096.6548785
DTSTAMP:20260423T054634Z
SUMMARY:Jubiläumskonzert - 140 Jahre Chorgemeinschaft Gallneukirchen
DTSTART;TZID=Europe/Berlin:20260613T193000
DTEND;TZID=Europe/Berlin:20260613T210000
LOCATION:Reichenauer Straße 12\, 4210 Gallneukirchen\, Österreich
GEO:48.354716;14.414678
X-APPLE-STRUCTURED-LOCATION;VALUE=URI;X-ADDRESS=Reichenauer Straße 12\, 42
 10 Gallneukirchen\, Österreich;X-APPLE-RADIUS=49;X-TITLE=:geo:48.354716,1
 4.414678
URL;VALUE=URI:https://draft.hey.bayern/events/656096
END:VEVENT
END:VCALENDAR
