BEGIN:VCALENDAR
PRODID:-//eluceo/ical//2.0/EN
VERSION:2.0
CALSCALE:GREGORIAN
BEGIN:VEVENT
UID:hey.bayern.640626.5986641
DTSTAMP:20260421T221141Z
SUMMARY:Jugendchor - gemeinsam Singen
DTSTART;TZID=Europe/Berlin:20250923T183000
DTEND;TZID=Europe/Berlin:20250923T200000
LOCATION:Pfarrheim Faistenau\, 5324 Faistenau\, Österreich
URL;VALUE=URI:https://draft.hey.bayern/events/640626
END:VEVENT
END:VCALENDAR
